
BEGIN:VCALENDAR
PRODID:-//eluceo/ical//2.0/EN
VERSION:2.0
CALSCALE:GREGORIAN
BEGIN:VEVENT
UID:996826
DTSTAMP:20260421T011212Z
SUMMARY:Kuteno 2024
DTSTART;TZID=Europe/Berlin:20240514T000000
DTEND;TZID=Europe/Berlin:20240516T235900
LOCATION:Rheda-Wiedenbrück\, Deutschland
END:VEVENT
BEGIN:VTIMEZONE
TZID:Europe/Berlin
BEGIN:DAYLIGHT
DTSTART:19810329T030000
TZNAME:CEST
TZOFFSETTO:+0200
TZOFFSETFROM:+0100
END:DAYLIGHT
END:VTIMEZONE
END:VCALENDAR
